BEGIN:VCALENDAR
VERSION:2.0
PRODID:-//Box Hill Miniature Steam Railway Society - ECPv5.0.2.1//NONSGML v1.0//EN
CALSCALE:GREGORIAN
METHOD:PUBLISH
X-WR-CALNAME:Box Hill Miniature Steam Railway Society
X-ORIGINAL-URL:https://www.bhmsrs.org.au
X-WR-CALDESC:Events for Box Hill Miniature Steam Railway Society
BEGIN:VTIMEZONE
TZID:UTC
BEGIN:STANDARD
TZOFFSETFROM:+0000
TZOFFSETTO:+0000
TZNAME:UTC
DTSTART:20180101T000000
END:STANDARD
END:VTIMEZONE
BEGIN:VEVENT
DTSTART;TZID=UTC:20181118T110000
DTEND;TZID=UTC:20181118T160000
DTSTAMP:20200301T194435
CREATED:20171203T072656Z
LAST-MODIFIED:20180112T081747Z
UID:245-1542538800-1542556800@www.bhmsrs.org.au
SUMMARY:Public Running Day
DESCRIPTION:Please Note that alcohol is not permitted in the grounds. Train passengers are required to wear fully enclosed footwear\, keep their feet on the footboards\, sit up straight and follow directions given in the interest of safety whilst riding. Use of video cameras on moving trains is not permitted. Intending passengers should consider the small gauge of the railway and not ride backwards\, or across two carriages or with a medical condition that affects balance\, or otherwise do any thing that may cause instability to the train. Be aware that steam engines are hot\, emit smoke and steam and sometimes cinders\, it is not advisable to wear your Sunday Best! Due to Insurance requirements\, NO open toe shoes\, sandals or thongs are permitted to be worn on our trains. \n
URL:https://www.bhmsrs.org.au/event/public-running-day-41/
LOCATION:Box Hill Miniature Steam Railway\, cnr Elgar Road and Belmore Road\, Mont Albert North\, Victoria\, 3129\, Australia
CATEGORIES:Public Running Day
END:VEVENT
END:VCALENDAR