BEGIN:VCALENDAR
VERSION:2.0
PRODID:-//Box Hill Miniature Steam Railway Society - ECPv5.0.2.1//NONSGML v1.0//EN
CALSCALE:GREGORIAN
METHOD:PUBLISH
X-WR-CALNAME:Box Hill Miniature Steam Railway Society
X-ORIGINAL-URL:https://www.bhmsrs.org.au
X-WR-CALDESC:Events for Box Hill Miniature Steam Railway Society
BEGIN:VTIMEZONE
TZID:Australia/Melbourne
BEGIN:STANDARD
TZOFFSETFROM:+1100
TZOFFSETTO:+1000
TZNAME:AEST
DTSTART:20200404T160000
END:STANDARD
BEGIN:DAYLIGHT
TZOFFSETFROM:+1000
TZOFFSETTO:+1100
TZNAME:AEDT
DTSTART:20201003T160000
END:DAYLIGHT
END:VTIMEZONE
BEGIN:VEVENT
DTSTART;TZID=Australia/Melbourne:20200920T110000
DTEND;TZID=Australia/Melbourne:20200920T160000
DTSTAMP:20200301T192524
CREATED:20191227T103500Z
LAST-MODIFIED:20191227T103500Z
UID:424-1600599600-1600617600@www.bhmsrs.org.au
SUMMARY:Public Running Day
DESCRIPTION:Children under 2 years of age ride FREE!  Tickets may be be purchased using either cash or card payments. \nAlcohol is not permitted in the grounds. Train passengers are required to wear fully enclosed footwear\, keep their feet on the footboards\, sit up straight and follow directions given in the interest of safety whilst riding. Use of video cameras on moving trains is not permitted. \nIntending passengers should consider the small gauge of the railway and not ride backwards\, or across two carriages or with a medical condition that affects balance\, or otherwise do any thing that may cause instability to the train. \nBe aware that steam engines are hot\, emit smoke and steam and sometimes cinders\, it is not advisable to wear your Sunday Best! Due to Insurance requirements\, NO open toe shoes\, sandals or thongs are permitted to be worn on our trains. \n
URL:https://www.bhmsrs.org.au/event/2020-september-public-running-day/
LOCATION:Box Hill Miniature Steam Railway\, cnr Elgar Road and Belmore Road\, Mont Albert North\, Victoria\, 3129\, Australia
CATEGORIES:Public Running Day
END:VEVENT
END:VCALENDAR