BEGIN:VCALENDAR
VERSION:2.0
PRODID:-//Box Hill Miniature Steam Railway Society - ECPv4.7.4//NONSGML v1.0//EN
CALSCALE:GREGORIAN
METHOD:PUBLISH
X-WR-CALNAME:Box Hill Miniature Steam Railway Society
X-ORIGINAL-URL:http://www.bhmsrs.org.au
X-WR-CALDESC:Events for Box Hill Miniature Steam Railway Society
BEGIN:VEVENT
DTSTART;TZID=UTC+10:20180520T110000
DTEND;TZID=UTC+10:20180520T160000
DTSTAMP:20190228T114248
CREATED:20171203T072114Z
LAST-MODIFIED:20180112T081653Z
UID:232-1526814000-1526832000@www.bhmsrs.org.au
SUMMARY:Public Running Day
DESCRIPTION:Please Note that alcohol is not permitted in the grounds. Train passengers are required to wear fully enclosed footwear\, keep their feet on the footboards\, sit up straight and follow directions given in the interest of safety whilst riding. Use of video cameras on moving trains is not permitted. Intending passengers should consider the small gauge of the railway and not ride backwards\, or across two carriages or with a medical condition that affects balance\, or otherwise do any thing that may cause instability to the train. Be aware that steam engines are hot\, emit smoke and steam and sometimes cinders\, it is not advisable to wear your Sunday Best! Due to Insurance requirements\, NO open toe shoes\, sandals or thongs are permitted to be worn on our trains. \n
URL:http://www.bhmsrs.org.au/event/public-running-day-35/
LOCATION:Box Hill Miniature Steam Railway\, cnr Elgar Road and Belmore Road\, Mont Albert North\, Victoria\, 3129\, Australia
CATEGORIES:Public Running Day
END:VEVENT
END:VCALENDAR